Workbook

Sheet ZBIORCZE ZESTAWIENIE KOSZTÓW
A1: Przebudowa drogi gminnej ul. Kniaziewicza w km 0+008 do 0+225 w miejscowości Myślenice, gmina Myślenice, powiat Myślenicki
A2: Wykonawca:
A3: Data:
A5: Lp | B5: Kod branży | C5: Oznaczenie arkusza | D5: Nazwa elementu | E5: Wartość | F5: Oszczędności netto | G5: Oszczędności netto | H5: Komentarz
A6: 1 | B6: 2 | C6: 3 | D6: 4 | E6: 5 | F6: 6 | G6: 7 | H6: 8
A7: 1 | C7: Kosztorys | D7: Przebudowa drogi gminnej ul. Kniaziewicza w km 0+008 do 0+225 w miejscowości Myślenice, gmina Myślenice, powiat Myślenicki | E7: ='1 Przebudowa drogi gminnej ul. '!J8 -> 0
A8: 2 | C8: ELEMENT 1 | D8: ROBOTY ROZBIÓRKOWE I PRZYGOTOWAWCZE | E8: ='1 Przebudowa drogi gminnej ul. '!J9 -> 0
A9: 3 | C9: ELEMENT 2 | D9: CHODNIK | E9: ='1 Przebudowa drogi gminnej ul. '!J22 -> 0
A10: 4 | C10: ELEMENT 3 | D10: JEZDNIA | E10: ='1 Przebudowa drogi gminnej ul. '!J33 -> 0
A11: 5 | C11: ELEMENT 4 | D11: OZNAKOWANIE, OZNAKOWANIA AKTYWNEGO PRZEJŚCIA, BUDOWA RADARU | E11: ='1 Przebudowa drogi gminnej ul. '!J44 -> 0
A12: 6 | C12: ELEMENT 5 | D12: ROBOTY INSTALACJI ELEKTRYCZNEJ DOT. DEDYKOWANEGO OŚWIETLENIA PRZEJŚCIA DLA PIESZYCH, KANAŁ TECHNOLOGICZNY | E12: ='1 Przebudowa drogi gminnej ul. '!J54 -> 0
D17: Dane wyjściowe
E18: 1

Sheet 1 Przebudowa drogi gminnej ul. 
A1: KOSZTORYS OFERTOWY
A2: Przebudowa drogi gminnej ul. Kniaziewicza w km 0+008 do 0+225 w miejscowości Myślenice, gmina Myślenice, powiat Myślenicki
A3: Wykonawca:
A4: Data:
A6: Lp | B6: Odniesienie do dokumentacji przetargowej | C6: Podstawa | D6: Opis robót | E6: Jednostka | F6: Szacowany obmiar projektanta | G6: Obmiar zweryfikowany przez wykonawcę | H6: Krotność | I6: Cena jednostkowa netto | J6: Wartość | K6: Uwagi
A7: 1 | B7: 2 | C7: 3 | D7: 4 | E7: 5 | F7: 6 | G7: 7 | H7: 8 | I7: 9 | J7: 10 | K7: 11
C8: Kosztorys | D8: Przebudowa drogi gminnej ul. Kniaziewicza w km 0+008 do 0+225 w miejscowości Myślenice, gmina Myślenice, powiat Myślenicki | J8: ='1 Przebudowa drogi gminnej ul. '!J9+'1 Przebudowa drogi gminnej ul. '!J22+'1 Przebudowa drogi gminnej ul. '!J33+'1 Przebudowa drogi gminnej ul. '!J44+'1 Przebudowa drogi gminnej ul. '!J54 -> 0
A9: 1 | C9: Element | D9: ROBOTY ROZBIÓRKOWE I PRZYGOTOWAWCZE | J9: =SUM(J10:J21) -> 0
A10: 1 | C10: KNNR 1/111/2 | D10: Roboty pomiarowe przy liniowych robotach ziemnych, trasa dróg w terenie pagórkowatym lub górskim | E10: km | F10: 0.22 | H10: 1 | J10: =ROUND(G10*I10, 2) -> 0
A11: 2 | B11: D.01.02.04 | C11: KNNR 6/806/4 | D11: Rozebranie krawężników betonowych i kamiennych, krawężniki kamienne 20x35·cm na podsypce cementowo-piaskowej - ROZBIÓRKA KRAWĘŻNIKÓW 20x30 cm ORAZ 15x30 NA ŁAWIE BETONOWEJ PRZY KRAWĘDZI JEZDNI WRAZ Z WYWOZEM DO 15 KM | E11: m | F11: 308 | H11: 1 | J11: =ROUND(G11*I11, 2) -> 0
A12: 3 | B12: D.01.02.04 | C12: KNNR 6/805/6 | D12: Rozebranie nawierzchni i chodników z płyt betonowych, chodniki, na podsypce piaskowej, płyty 50x50x7·cm WRAZ Z WYWOZEM DO 15 KM | E12: m2 | F12: 389.8 | H12: 1 | J12: =ROUND(G12*I12, 2) -> 0
A13: 4 | B13: D.01.02.04 | C13: KNNR 6/803/1 | D13: Rozebranie nawierzchni z kostki kamiennej i klinkieru drogowego, kostka nieregularna na podsypce piaskowej, ręcznie ROZBIÓRKA NAWIERZCHNI Z BETONOWEJ KOSTKI BRUKOWEJ WRAZ Z WYWOZEM DO 15 KM | E13: m2 | F13: 111.3 | H13: 1 | J13: =ROUND(G13*I13, 2) -> 0
A14: 5 | B14: D.01.02.04 | C14: KNNR 6/806/8 | D14: Rozebranie obrzeży trawnikowych 8x30·cm na ŁAWIE Z KRUSZYWA WRAZ Z WYWOZEM DO 15 KM | E14: m | F14: 261 | H14: 1 | J14: =ROUND(G14*I14, 2) -> 0
A15: 6 | B15: D.01.02.04 | C15: KNNR 6/802/4 | D15: Rozebranie nawierzchni, masy mineralno-bitumiczne, mechanicznie WRAZ Z WYWOZEM DO 15 KM | E15: m2 | F15: 55.38 | H15: 1 | J15: =ROUND(G15*I15, 2) -> 0
A16: 7 | B16: D.01.02.04 | C16: KNNR 6/802/6 | D16: Rozebranie nawierzchni, nawierzchnia z betonu grubość 15·cm, mechanicznie WRAZ Z WYWOZEM DO 15 KM | E16: m2 | F16: 24.95 | H16: 1 | J16: =ROUND(G16*I16, 2) -> 0
A17: 8 | B17: D-05.03.11.30 | C17: SEK 601/104/10 (1) | D17: Frezowanie nawierzchni asfaltowych na zimno przy użyciu frezarki z odwiezieniem kory asfaltowej na place składowe, frezowanie na głębokości 10·cm, samochód 5,0-10,0·t Z ODWOZEM NA ODLEGŁOŚĆ DO 15 km W MIEJSCE WSKAZANE PRZEZ ZAMAWIAJĄCEGO (ścier jest własnością Zamawiającego) | E17: m2 | F17: 742 | H17: 1 | J17: =ROUND(G17*I17, 2) -> 0
A18: 9 | B18: D-03.06.01 | C18: # Kalkulacja indywidualna | D18: Regulacja wysokościowa włazów studni kanalizacyjnych | E18: szt | F18: 14 | H18: 1 | J18: =ROUND(G18*I18, 2) -> 0
A19: 10 | B19: D-03.06.01 | C19: # Kalkulacja indywidualna | D19: Regulacja wysokościowa włazów studni teletechnicznych | E19: szt | F19: 1 | H19: 1 | J19: =ROUND(G19*I19, 2) -> 0
A20: 11 | B20: D-03.06.01 | C20: # Kalkulacja indywidualna | D20: Regulacja wysokościowa wpustów ulicznych | E20: szt | F20: 6 | H20: 1 | J20: =ROUND(G20*I20, 2) -> 0
A21: 12 | C21: KNNR 5/721/1 | D21: Cięcie nawierzchni mechanicznie, z mas mineralno-asfaltowych, głębokość 5·cm | E21: m | F21: 75 | H21: 1 | J21: =ROUND(G21*I21, 2) -> 0
A22: 2 | C22: Element | D22: CHODNIK | J22: =SUM(J23:J32) -> 0
A23: 13 | B23: D-01.02.02, D-02.00.00 | C23: KNNR 1/202/6 | D23: Roboty ziemne wykonywane koparkami podsiębiernymi, z transportem urobku samochodami samowyładowczymi na odległość do 15·km, koparka 0,40 m3, kategoria gruntu III-IV WYKOP NA GŁĘBOKOŚĆ 0,25 – 0,40 m | E23: m3 | F23: 171.85 | H23: 1 | J23: =ROUND(G23*I23, 2) -> 0
A24: 14 | B24: D-04.01.01.31 | C24: KNNR 6/103/3 (1) | D24: Profilowanie i zagęszczanie podłoża pod warstwy konstrukcyjne nawierzchni, wykonywane mechanicznie, kategoria gruntu II-VI, walec wibracyjny | E24: m2 | F24: 611 | H24: 1 | J24: =ROUND(G24*I24, 2) -> 0
A25: 15 | B25: D-04.04.02 | C25: KNNR 6/113/6 | D25: Podbudowy z kruszyw łamanych, warstwa górna, po zagęszczeniu 25·cm W-WA GÓRNA 25cm | E25: m2 | F25: 611 | H25: 1 | J25: =ROUND(G25*I25, 2) -> 0
A26: 16 | B26: D-04.04.02 | C26: KNNR 6/113/1 | D26: Podbudowy z kruszyw łamanych, warstwa dolna, po zagęszczeniu 15·cm – ZJAZDY | E26: m2 | F26: 135 | H26: 1 | J26: =ROUND(G26*I26, 2) -> 0
A27: 17 | B27: D-08.03.01 | C27: KNNR 6/404/5 | D27: Obrzeża betonowe, 30x8·cm, podsypka cementowo-piaskowa, wypełnienie spoin zaprawą cementową NA ŁAWIE Z BETONU C16/20 (w ilości 0,045m3/mb) | E27: m | F27: 352.9 | H27: 1 | J27: =ROUND(G27*I27, 2) -> 0
A28: 18 | B28: D-08.01.01.10 | C28: KNNR 6/403/4 | D28: Krawężniki wraz z wykonaniem ław, betonowe wystające 20x30·cm, ława betonowa, podsypka cementowo-piaskowa WRAZ Z WYKONANIEM ŁAWY BETONOWEJ Z OPOREM C16/20 (w ilości 0,090m3/mb) | E28: m | F28: 337 | H28: 1 | J28: =ROUND(G28*I28, 2) -> 0
A29: 19 | B29: D-05.03.05A | C29: KNNR 6/607/4 | D29: Ścieki uliczne z klinkieru drogowego, płaskie na podsypce cementowo-piaskowej, 2 rzędy klinkieru na płask Z KOSTKI BRUKOWEJ 8 cm NA PODSYPCE CEMENTOWO - PIASKOWEJ I ŁAWIE Z BETONU C16/20 o GR. 20 cm (w ilości 0,040m3/mb) | E29: m | F29: 217 | H29: 1 | J29: =ROUND(G29*I29, 2) -> 0
A30: 20 | C30: # Kalkulacja indywidualna | D30: Palisada prefabrykowana o wym. 12x18x100 cm na ławie betonowej C20/25 (w ilości 0,10m3/mb) | E30: m | F30: 36 | H30: 1 | J30: =ROUND(G30*I30, 2) -> 0
A31: 21 | B31: 05.03.23a | C31: KNNR 6/502/1 (1) | D31: Chodniki z kostki brukowej betonowej, grubość 6·cm, podsypka piaskowa z wypełnieniem spoin piaskiem, kostka szara – CHODNIKI | E31: m2 | F31: 481.14 | H31: 1 | J31: =ROUND(G31*I31, 2) -> 0
A32: 22 | B32: 05.03.23a | C32: KNNR 6/502/3 (2) | D32: Chodniki z kostki brukowej betonowej, grubość 8·cm, podsypka cementowo-piaskowa z wypełnieniem spoin piaskiem, kostka kolorowa - ZJAZDY | E32: m2 | F32: 144.13 | H32: 1 | J32: =ROUND(G32*I32, 2) -> 0
A33: 3 | C33: Element | D33: JEZDNIA | J33: =SUM(J34:J43) -> 0
A34: 23 | B34: D-01.02.02, D-02.00.00 | C34: KNNR 1/202/6 | D34: Roboty ziemne wykonywane koparkami podsiębiernymi, z transportem urobku samochodami samowyładowczymi na odległość do 15·km, koparka 0,40 m3, kategoria gruntu III-IV WYKOPY NA GŁ. 0,60 m POD KONSTRUKCJE JEZDNI | E34: m3 | F34: 445.2 | H34: 1 | J34: =ROUND(G34*I34, 2) -> 0
A35: 24 | B35: D-04.01.01.31 | C35: KNNR 6/103/3 (2) | D35: Profilowanie i zagęszczanie podłoża pod warstwy konstrukcyjne nawierzchni, wykonywane mechanicznie, kategoria gruntu II-VI, walec statyczny | E35: m2 | F35: 742 | H35: 1 | J35: =ROUND(G35*I35, 2) -> 0
A36: 25 | B36: D-04.04.02 | C36: # Kalkulacja indywidualna | D36: PODBUDOWA POMOCNICZA Z KRUSZYWA STABILIZOWANEGO SPOIWEM HYDRAULICZNYM GRUBOŚCI 30 cm | E36: m2 | F36: 742 | H36: 1 | J36: =ROUND(G36*I36, 2) -> 0
A37: 26 | B37: D-04.04.02 | C37: KNNR 6/113/6 | D37: Podbudowy z kruszyw łamanych, warstwa górna, po zagęszczeniu 25·cm GR. W-WY 25 cm | E37: m2 | F37: 742 | H37: 1 | J37: =ROUND(G37*I37, 2) -> 0
A38: 27 | C38: KNNR 1/609/1 | D38: Drenaż rurowy jednorzędowy w uprzednio przygotowanej obsypce w wykopie suchym, sączki DRENARSKIE, średnice nominalne 100·mm W GEOWŁÓKNINIE Z ZASYPKĄ KRUSZYWA FILTRACYJNEGO NA PEŁNĄ WYSOKOŚĆ | E38: m | F38: 45 | H38: 1 | J38: =ROUND(G38*I38, 2) -> 0
A39: 28 | B39: D-04.03.01.10 | C39: KNNR 6/1005/6 | D39: Oczyszczenie nawierzchni drogowych, mechanicznie, nawierzchnia z bitumu | E39: m2 | F39: 3222.2 | H39: 1 | J39: =ROUND(G39*I39, 2) -> 0
A40: 29 | B40: D-04.03.01.22 | C40: KNNR 6/1005/7 | D40: Skropienie nawierzchni emulsją asfaltową pod warstwę ścieralną, wiążącą i podbudowę. ANALOGIA | E40: m2 | F40: 3964.2 | H40: 1 | J40: =ROUND(G40*I40, 2) -> 0
A41: 30 | B41: D-04.07.01.10 | C41: KNNR 6/110/2 (2) | D41: Podbudowy z mieszanek mineralno-bitumicznych, podbudowa asfaltowa, warstwa po zagęszczeniu 7·cm, grysowo-żwirowa (standard II), samochód 5-10·t MASA ASFALTOWA GRYSOWA GR. 7cm wraz z transportem masy z wytwórni | E41: m2 | F41: 742 | H41: 1 | J41: =ROUND(G41*I41, 2) -> 0
A42: 31 | B42: D-05.03.05A | C42: KNNR 6/308/2 (2) | D42: Nawierzchnie z mieszanek mineralno-bitumicznych (warstwa wiążąca), mieszanka asfaltowa, grubość po zagęszczeniu 5·cm, masa grysowa, samochód 5-10·t wraz z transportem masy z wytwórni | E42: m2 | F42: 742 | H42: 1 | J42: =ROUND(G42*I42, 2) -> 0
A43: 32 | B43: D-05.03.05 | C43: KNNR 6/309/2 (2) | D43: Nawierzchnie z mieszanek mineralno-bitumicznych (warstwa ścieralna), mieszanka asfaltowa, grubość po zagęszczeniu 4·cm, masa grysowa, samochód 5-10·t wraz z transportem masy z wytwórni | E43: m2 | F43: 2480.2 | H43: 1 | J43: =ROUND(G43*I43, 2) -> 0
A44: 4 | C44: Element | D44: OZNAKOWANIE, OZNAKOWANIA AKTYWNEGO PRZEJŚCIA, BUDOWA RADARU | J44: =SUM(J45:J53) -> 0
A45: 33 | B45: D-07.02.01.40 | C45: KNR 231/702/2 | D45: Słupki do znaków drogowych, z rur stalowych, Fi·70·mm Z ZABETONOWANIEM | E45: szt | F45: 27 | H45: 1 | J45: =ROUND(G45*I45, 2) -> 0
A46: 34 | B46: D-07.02.01.40 | C46: KNR 231/703/1 | D46: Tarcza znaku i przymocowanie tablic znaków drogowych, znaki zakazu, nakazu, ostrzegawcze, informacyjne, powierzchnia do 0,3·m2 TYP MAŁY FOLIA ODBLASKOWA I GENERACJI | E46: szt | F46: 33 | H46: 1 | J46: =ROUND(G46*I46, 2) -> 0
A47: 35 | B47: D-07.03.01.00 | C47: # Kalkulacja indywidualna | D47: ZNAK D-6 AKTYWNY WRAZ Z ZASILANIEM (Z INSTALACJĄ) | E47: szt | F47: 4 | H47: 1 | J47: =ROUND(G47*I47, 2) -> 0
A48: 36 | B48: D-07.02.01.40 | C48: # Kalkulacja indywidualna | D48: TABLICZKI DO ZNAKÓW | E48: szt | F48: 9 | H48: 1 | J48: =ROUND(G48*I48, 2) -> 0
A49: 37 | C49: # Kalkulacja indywidualna | D49: LUSTRO DROGOWE O ŚREDNICY 700 mm | E49: szt | F49: 3 | H49: 1 | J49: =ROUND(G49*I49, 2) -> 0
A50: 38 | B50: D-07.02.01.40 | C50: # Kalkulacja indywidualna | D50: ZNAK DROGOWY U-5B (PYLON) | E50: szt | F50: 4 | H50: 1 | J50: =ROUND(G50*I50, 2) -> 0
A51: 39 | C51: # Kalkulacja indywidualna | D51: ZNAK DROGOWY P-20 NA NIEBIESKIM TLE | E51: szt | F51: 2 | H51: 1 | J51: =ROUND(G51*I51, 2) -> 0
A52: 40 | B52: D-07.01.01.00 | C52: KNR 231/706/2 | D52: Oznakowanie poziome jezdni farbą chlorokauczukową grubwarstwową, linie segregacyjne i krawędziowe ciągłe malowane mechanicznie | E52: m2 | F52: 177 | H52: 1 | J52: =ROUND(G52*I52, 2) -> 0
A53: 41 | B53: D-07.03.01.00 | C53: # Kalkulacja indywidualna | D53: BUDOWA RADARU Z TABLICĄ AKTYWNYM INFORMUJĄCY O PRĘDKOŚCI RUCHU POJAZDU | E53: szt | F53: 2 | H53: 1 | J53: =ROUND(G53*I53, 2) -> 0
A54: 5 | C54: Element | D54: ROBOTY INSTALACJI ELEKTRYCZNEJ DOT. DEDYKOWANEGO OŚWIETLENIA PRZEJŚCIA DLA PIESZYCH, KANAŁ TECHNOLOGICZNY | J54: =SUM(J55:J61) -> 0
A55: 42 | C55: # Kalkulacja indywidualna | D55: SŁUPY OŚWIETLENIOWE KMP (FUNDAMENT, MASZT, WYSIĘGNIK, OPRAWA-KMP) POZYCJA SCALONA | E55: szt | F55: 10 | H55: 1 | J55: =ROUND(G55*I55, 2) -> 0
A56: 43 | C56: # Kalkulacja indywidualna | D56: PRZESTAWIENIE SŁUPA ELEKTRYCZNEGO | E56: szt | F56: 3 | H56: 1 | J56: =ROUND(G56*I56, 2) -> 0
A57: 44 | C57: # Kalkulacja indywidualna | D57: KABLE ZASILAJĄCE YAKXS 5X35 mm2 (+RADAR) | E57: m | F57: 180 | H57: 1 | J57: =ROUND(G57*I57, 2) -> 0
A58: 45 | C58: # Kalkulacja indywidualna | D58: RURA OSŁONOWA SRS 110mm | E58: m | F58: 62 | H58: 1 | J58: =ROUND(G58*I58, 2) -> 0
A59: 46 | C59: # Kalkulacja indywidualna | D59: PRZESTAWIENIE SŁUPA ELEKTRYCZNEGO ŻELBET. FI 30 cm | E59: szt | F59: 1 | H59: 1 | J59: =ROUND(G59*I59, 2) -> 0
A60: 47 | C60: # Kalkulacja indywidualna | D60: BUDOWA KANAŁU TECHNOLOGICZNEGO | E60: m | F60: 134 | H60: 1 | J60: =ROUND(G60*I60, 2) -> 0
A61: 48 | C61: # Kalkulacja indywidualna | D61: STUDNIE TELETECHNICZNE | E61: szt | F61: 7 | H61: 1 | J61: =ROUND(G61*I61, 2) -> 0
